BEGIN:VCALENDAR
VERSION:2.0
PRODID:-//wp-events-plugin.com//7.2.3.1//EN
BEGIN:VEVENT
UID:2100@kanupolo-buxtehude.de
DTSTART;VALUE=DATE:20250809
DTEND;VALUE=DATE:20250811
DTSTAMP:20250615T090604Z
URL:https://www.kanupolo-buxtehude.de/events/gepaeckfahrt-nach-luehesand-2
 025-08-09/
SUMMARY:Gepäckfahrt nach Pagensand
DESCRIPTION:Diese Tour ist nur für fortgeschrittene Paddler geeignet.\n\nG
 enauere Informationen erhaltet ihr in einer separaten Einladung.\n\nBei sc
 hlechter Witterung fällt die Tour aus.\n\nEs besteht Schwimmwestenpflicht
  auf der Paddeltour.\n\nWenn ihr ein Vereinsboot benötigt\, gebt das bitt
 e bei der Anmeldung mit Namen des Bootes an.\nMeldet euch bitte per E-Mail
  bis zum 27.07.2025 bei Nicole an.\nnicole.schoenborn@ewe.net\n&nbsp\;
CATEGORIES:Mehrtagesfahrt,Vereinsveranstaltung
END:VEVENT
END:VCALENDAR