BEGIN:VCALENDAR
VERSION:2.0
PRODID:-//wp-events-plugin.com//7.2.3.1//EN
BEGIN:VEVENT
UID:826@kanupolo-buxtehude.de
DTSTART:20160616T230000Z
DTEND:20160616T230000Z
DTSTAMP:20160204T170257Z
URL:https://www.kanupolo-buxtehude.de/events/1500-polotraining-anfaenger-2
 016-06-17/
SUMMARY:15:00 Polotraining Anfänger
DESCRIPTION:Treffen am Bootshaus\, dann gemeinsames Aufwärmen und Üben am
  Bootshaus oder auf dem Stadtparksee. Anleitung: Sportassistenten mit Frei
 willigen Dienst Leistender.
CATEGORIES:Ausbildung,Jugend-Polo,Jugendtraining
LOCATION:Bootshaus BKV\, Ferdinandstr. / Stader Str. \, Buxtehude\, 21614\,
  Deutschland
GEO:53.46931253847756;9.69367692124024
X-APPLE-STRUCTURED-LOCATION;VALUE=URI;X-ADDRESS=Ferdinandstr. / Stader Str.
  \, Buxtehude\, 21614\, Deutschland;X-APPLE-RADIUS=100;X-TITLE=Bootshaus B
 KV:geo:53.46931253847756,9.69367692124024
END:VEVENT
END:VCALENDAR